BEGIN:VCALENDAR
VERSION:2.0
PRODID:-//Squarespace Inc/Squarespace 6//v6//EN
BEGIN:VEVENT
UID:5ba6f0ffec212d69b849f0b3@squarespace.com
DTSTAMP:20180923T014856Z
DTSTART:20181006T190000Z
DTEND:20181006T194500Z
SUMMARY:Said Eucharist
GEO:-41.276831;174.777149
LOCATION:Lady Chapel
END:VEVENT
END:VCALENDAR
