BEGIN:VCALENDAR
VERSION:2.0
PRODID:-//Squarespace Inc/Squarespace 6//v6//EN
BEGIN:VEVENT
UID:5ba6f1131905f47667798dfc@squarespace.com
DTSTAMP:20180923T014915Z
DTSTART:20181013T190000Z
DTEND:20181013T194500Z
SUMMARY:Said Eucharist
GEO:-41.276831;174.777149
LOCATION:Lady Chapel
END:VEVENT
END:VCALENDAR
