BEGIN:VCALENDAR
VERSION:2.0
PRODID:-//Squarespace Inc/Squarespace 6//v6//EN
BEGIN:VEVENT
UID:5ba6f1fde79c705ac39cec8d@squarespace.com
DTSTAMP:20181004T045857Z
DTSTART:20181004T234500Z
DTEND:20181005T001500Z
SUMMARY:CANCELLED: Couperin's Pièces de Clavecin: recital 17
END:VEVENT
END:VCALENDAR
