BEGIN:VCALENDAR
VERSION:2.0
PRODID:-//Squarespace Inc/Squarespace 6//v6//EN
BEGIN:VEVENT
UID:5bce964a8165f5dee72145c2@squarespace.com
DTSTAMP:20181023T033308Z
DTSTART:20181101T234500Z
DTEND:20181102T001500Z
SUMMARY:Couperin's Pièces de Clavecin: recital 17
END:VEVENT
END:VCALENDAR
