BEGIN:VCALENDAR
VERSION:2.0
PRODID:-//Squarespace Inc/Squarespace 6//v6//EN
BEGIN:VEVENT
UID:5bce960ef9619a0ebc0954c0@squarespace.com
DTSTAMP:20181023T033424Z
DTSTART:20181108T234500Z
DTEND:20181109T001500Z
SUMMARY:TGIF: Peter Maunder (trombone) and Michael Stewart (organ)
END:VEVENT
END:VCALENDAR
