BEGIN:VCALENDAR
VERSION:2.0
PRODID:-//Squarespace Inc/Squarespace 6//v6//EN
BEGIN:VEVENT
UID:5bce97251905f4d8183e4245@squarespace.com
DTSTAMP:20181023T033644Z
DTSTART:20181025T234500Z
DTEND:20181026T001500Z
SUMMARY:TGIF: Piano Students from the New Zealand School of Music
END:VEVENT
END:VCALENDAR
