BEGIN:VCALENDAR
VERSION:2.0
PRODID:-//Squarespace Inc/Squarespace 6//v6//EN
BEGIN:VEVENT
UID:5bce98fbe2c4834af44ac7a8@squarespace.com
DTSTAMP:20181113T105119Z
DTSTART:20181115T234500Z
DTEND:20181116T001500Z
SUMMARY:TGIF: Richard Apperley (organ)
END:VEVENT
END:VCALENDAR
