BEGIN:VCALENDAR
VERSION:2.0
PRODID:-//Squarespace Inc/Squarespace 6//v6//EN
BEGIN:VEVENT
UID:5b8ef7f140ec9a55ba13fbe3@squarespace.com
DTSTAMP:20180904T212710Z
DTSTART:20181013T010000Z
DTEND:20181013T020000Z
SUMMARY:OrganFestival - Kid's Concert
END:VEVENT
END:VCALENDAR
