BEGIN:VCALENDAR
VERSION:2.0
PRODID:-//Squarespace Inc/Squarespace 6//v6//EN
BEGIN:VEVENT
UID:5b8ef8ce21c67cba280281c7@squarespace.com
DTSTAMP:20180904T212839Z
DTSTART:20181013T060000Z
DTEND:20181013T080000Z
SUMMARY:OrganFestival - Combined Choirs
END:VEVENT
END:VCALENDAR
