BEGIN:VCALENDAR
VERSION:2.0
PRODID:-//Squarespace Inc/Squarespace 6//v6//EN
BEGIN:VEVENT
UID:5ba6efbfe79c705ac39cda5b@squarespace.com
DTSTAMP:20180923T014403Z
DTSTART:20181014T040000Z
DTEND:20181014T051500Z
SUMMARY:Choral Evensong
END:VEVENT
END:VCALENDAR
