BEGIN:VCALENDAR
VERSION:2.0
PRODID:-//Squarespace Inc/Squarespace 6//v6//EN
BEGIN:VEVENT
UID:5ba6efa1e2c4832fe2a26c78@squarespace.com
DTSTAMP:20180923T014314Z
DTSTART:20181013T210000Z
DTEND:20181013T221500Z
SUMMARY:Choral Eucharist
END:VEVENT
END:VCALENDAR
